Workbook

Sheet Report
A1: Ref | B1: Date | C1: Time | D1: Location | E1: Shift | F1: Reported by | G1: What happened | H1: Type | I1: People involved | J1: Vehicle / equipment | K1: Could it have been worse? | L1: Immediate cause | M1: Done on the day | N1: Evidence | O1: Follow-up owner | P1: Due | Q1: Action taken | R1: Closed on | S1: Control checked working on
A2: =IF(B2="","","NM-"&TEXT(ROW()-1,"0000")) | B2: 46322 | C2: 0.27777778 | D2: Bay 4 | E2: Early | F2: Shift supervisor | G2: Forklift reversing out of bay 4, pedestrian stepped from behind the trailer, driver stopped short. | H2: Near miss | I2: Forklift driver; agency operative | J2: FLT (fleet number) | K2: Serious | L2: Line of sight | M2: Trailer moved; cones placed across the walkway; briefed at handover. | N2: CCTV bay 4 camera, 06:40 | O2: H&S lead | P2: 46329 | Q2: Painted walkway extended behind trailer bays; mirror fitted. | R2: 46331
A3: =IF(B3="","","NM-"&TEXT(ROW()-1,"0000"))
A4: =IF(B4="","","NM-"&TEXT(ROW()-1,"0000"))
A5: =IF(B5="","","NM-"&TEXT(ROW()-1,"0000"))
A6: =IF(B6="","","NM-"&TEXT(ROW()-1,"0000"))
A7: =IF(B7="","","NM-"&TEXT(ROW()-1,"0000"))
A8: =IF(B8="","","NM-"&TEXT(ROW()-1,"0000"))
A9: =IF(B9="","","NM-"&TEXT(ROW()-1,"0000"))
A10: =IF(B10="","","NM-"&TEXT(ROW()-1,"0000"))
A11: =IF(B11="","","NM-"&TEXT(ROW()-1,"0000"))
A12: =IF(B12="","","NM-"&TEXT(ROW()-1,"0000"))
A13: =IF(B13="","","NM-"&TEXT(ROW()-1,"0000"))
A14: =IF(B14="","","NM-"&TEXT(ROW()-1,"0000"))
... A500: =IF(B500="","","NM-"&TEXT(ROW()-1,"0000"))

Sheet Summary
A1: Summary — formulas only; nothing to edit here
A2: Counts update as the Report sheet is filled in. Dates are relative to today.
A4: Month | B4: Reports | D4: Location (zone) | E4: Reports | G4: Type | H4: Reports | J4: Follow-ups | K4: Count
A5: =EOMONTH(TODAY(),-11)+1 | B5: =COUNTIFS(Report!$B$2:$B$500,">="&A5,Report!$B$2:$B$500,"<="&EOMONTH(A5,0)) | D5: =IF(Setup!D3="","",Setup!D3) | E5: =IF(D5="","",COUNTIF(Report!$D$2:$D$500,D5)) | G5: =Setup!H3 | H5: =COUNTIF(Report!$H$2:$H$500,G5) | J5: Open (owner set, not closed) | K5: =COUNTIFS(Report!$O$2:$O$500,"<>",Report!$R$2:$R$500,"")
A6: =EOMONTH(TODAY(),-10)+1 | B6: =COUNTIFS(Report!$B$2:$B$500,">="&A6,Report!$B$2:$B$500,"<="&EOMONTH(A6,0)) | D6: =IF(Setup!D4="","",Setup!D4) | E6: =IF(D6="","",COUNTIF(Report!$D$2:$D$500,D6)) | G6: =Setup!H4 | H6: =COUNTIF(Report!$H$2:$H$500,G6) | J6: Closed but control not checked working | K6: =COUNTIFS(Report!$R$2:$R$500,"<>",Report!$S$2:$S$500,"")
A7: =EOMONTH(TODAY(),-9)+1 | B7: =COUNTIFS(Report!$B$2:$B$500,">="&A7,Report!$B$2:$B$500,"<="&EOMONTH(A7,0)) | D7: =IF(Setup!D5="","",Setup!D5) | E7: =IF(D7="","",COUNTIF(Report!$D$2:$D$500,D7)) | G7: =Setup!H5 | H7: =COUNTIF(Report!$H$2:$H$500,G7) | J7: ← the one to show the H&S lead
A8: =EOMONTH(TODAY(),-8)+1 | B8: =COUNTIFS(Report!$B$2:$B$500,">="&A8,Report!$B$2:$B$500,"<="&EOMONTH(A8,0)) | D8: =IF(Setup!D6="","",Setup!D6) | E8: =IF(D8="","",COUNTIF(Report!$D$2:$D$500,D8)) | G8: =Setup!H6 | H8: =COUNTIF(Report!$H$2:$H$500,G8)
A9: =EOMONTH(TODAY(),-7)+1 | B9: =COUNTIFS(Report!$B$2:$B$500,">="&A9,Report!$B$2:$B$500,"<="&EOMONTH(A9,0)) | D9: =IF(Setup!D7="","",Setup!D7) | E9: =IF(D9="","",COUNTIF(Report!$D$2:$D$500,D9))
A10: =EOMONTH(TODAY(),-6)+1 | B10: =COUNTIFS(Report!$B$2:$B$500,">="&A10,Report!$B$2:$B$500,"<="&EOMONTH(A10,0)) | D10: =IF(Setup!D8="","",Setup!D8) | E10: =IF(D10="","",COUNTIF(Report!$D$2:$D$500,D10)) | G10: Could it have been worse? | H10: Reports
A11: =EOMONTH(TODAY(),-5)+1 | B11: =COUNTIFS(Report!$B$2:$B$500,">="&A11,Report!$B$2:$B$500,"<="&EOMONTH(A11,0)) | D11: =IF(Setup!D9="","",Setup!D9) | E11: =IF(D11="","",COUNTIF(Report!$D$2:$D$500,D11)) | G11: =Setup!J3 | H11: =COUNTIF(Report!$K$2:$K$500,G11)
A12: =EOMONTH(TODAY(),-4)+1 | B12: =COUNTIFS(Report!$B$2:$B$500,">="&A12,Report!$B$2:$B$500,"<="&EOMONTH(A12,0)) | D12: =IF(Setup!D10="","",Setup!D10) | E12: =IF(D12="","",COUNTIF(Report!$D$2:$D$500,D12)) | G12: =Setup!J4 | H12: =COUNTIF(Report!$K$2:$K$500,G12)
A13: =EOMONTH(TODAY(),-3)+1 | B13: =COUNTIFS(Report!$B$2:$B$500,">="&A13,Report!$B$2:$B$500,"<="&EOMONTH(A13,0)) | D13: =IF(Setup!D11="","",Setup!D11) | E13: =IF(D13="","",COUNTIF(Report!$D$2:$D$500,D13)) | G13: =Setup!J5 | H13: =COUNTIF(Report!$K$2:$K$500,G13)
A14: =EOMONTH(TODAY(),-2)+1 | B14: =COUNTIFS(Report!$B$2:$B$500,">="&A14,Report!$B$2:$B$500,"<="&EOMONTH(A14,0)) | D14: =IF(Setup!D12="","",Setup!D12) | E14: =IF(D14="","",COUNTIF(Report!$D$2:$D$500,D14))
A15: =EOMONTH(TODAY(),-1)+1 | B15: =COUNTIFS(Report!$B$2:$B$500,">="&A15,Report!$B$2:$B$500,"<="&EOMONTH(A15,0))
A16: =EOMONTH(TODAY(),-0)+1 | B16: =COUNTIFS(Report!$B$2:$B$500,">="&A16,Report!$B$2:$B$500,"<="&EOMONTH(A16,0))
A19: Week beginning | B19: Reports
A20: =TODAY()-WEEKDAY(TODAY(),2)+1-7*7 | B20: =COUNTIFS(Report!$B$2:$B$500,">="&A20,Report!$B$2:$B$500,"<"&A20+7)
A21: =TODAY()-WEEKDAY(TODAY(),2)+1-7*6 | B21: =COUNTIFS(Report!$B$2:$B$500,">="&A21,Report!$B$2:$B$500,"<"&A21+7)
A22: =TODAY()-WEEKDAY(TODAY(),2)+1-7*5 | B22: =COUNTIFS(Report!$B$2:$B$500,">="&A22,Report!$B$2:$B$500,"<"&A22+7)
A23: =TODAY()-WEEKDAY(TODAY(),2)+1-7*4 | B23: =COUNTIFS(Report!$B$2:$B$500,">="&A23,Report!$B$2:$B$500,"<"&A23+7)
A24: =TODAY()-WEEKDAY(TODAY(),2)+1-7*3 | B24: =COUNTIFS(Report!$B$2:$B$500,">="&A24,Report!$B$2:$B$500,"<"&A24+7)
A25: =TODAY()-WEEKDAY(TODAY(),2)+1-7*2 | B25: =COUNTIFS(Report!$B$2:$B$500,">="&A25,Report!$B$2:$B$500,"<"&A25+7)
A26: =TODAY()-WEEKDAY(TODAY(),2)+1-7*1 | B26: =COUNTIFS(Report!$B$2:$B$500,">="&A26,Report!$B$2:$B$500,"<"&A26+7)
A27: =TODAY()-WEEKDAY(TODAY(),2)+1-7*0 | B27: =COUNTIFS(Report!$B$2:$B$500,">="&A27,Report!$B$2:$B$500,"<"&A27+7)
A28: A trend, not a target: more reports usually means more trust, not more danger.

Sheet Setup
A1: Setup — edit the yellow cells. Dropdowns on the Report sheet read from these lists.
D2: Zones (location list) | F2: Shifts | H2: Types | J2: Could it have been worse? | L2: Immediate cause
A3: Site name | B3: Your site | D3: Bay 1 | F3: Early | H3: Near miss | J3: Minor | L3: Line of sight
D4: Bay 2 | F4: Late | H4: Unsafe condition | J4: Serious | L4: Speed
A5: Zones: ten rows, rename or blank as needed. Shifts, types and causes are editable too. Keep lists contiguous (no gaps). | D5: Bay 3 | F5: Night | H5: Unsafe act | J5: Life-changing | L5: Route
A6: Design from public guidance: HSG245 (investigating accidents and incidents), HSE accident-book fields, RIDDOR 2013 categories. Template from robok.ai/guides. | D6: Bay 4 | F6: Days | H6: Damage, no injury | L6: Lighting
D7: Yard | L7: Procedure not followed
D8: Gatehouse | L8: Procedure unclear
D9: Racking aisle A | L9: Equipment
D10: Loading dock | L10: Housekeeping
D11: Car park | L11: Other
D12: Welfare block
